BEGIN:VCALENDAR
VERSION:2.0
PRODID:-//Drupal//Event Calendar//EN
METHOD:PUBLISH
X-WR-CALNAME:Breathe\\, Move and Restore
BEGIN:VEVENT
UID:4c11ef0d737855c726db48252ce78372@www.tuftsmedicine.org
DTSTAMP:20260416T235602Z
DTSTART:20260506T160000
DTEND:20260506T170000
SUMMARY:Breathe\\, Move and Restore
LOCATION:Lowell General Hospital Cancer Center
URL:https://www.tuftsmedicine.org/about-us/events/breathe-move-and-restore
END:VEVENT
END:VCALENDAR
