BEGIN:VCALENDAR
VERSION:2.0
PRODID:-//Drupal//Event Calendar//EN
METHOD:PUBLISH
X-WR-CALNAME:Breathe\\, Move and Restore
BEGIN:VEVENT
UID:3f1fbb46e65fe93787821249afd3a53e@www.tuftsmedicine.org
DTSTAMP:20260416T235602Z
DTSTART:20260429T160000
DTEND:20260429T170000
SUMMARY:Breathe\\, Move and Restore
LOCATION:Lowell General Hospital Cancer Center
URL:https://www.tuftsmedicine.org/about-us/events/breathe-move-and-restore
END:VEVENT
END:VCALENDAR
