BEGIN:VCALENDAR
VERSION:2.0
PRODID:-//Drupal//Event Calendar//EN
METHOD:PUBLISH
X-WR-CALNAME:Breathe\\, Move and Restore
BEGIN:VEVENT
UID:6e484078603deadd8661b62ccc99b7b6@www.tuftsmedicine.org
DTSTAMP:20260416T235601Z
DTSTART:20260422T160000
DTEND:20260422T170000
SUMMARY:Breathe\\, Move and Restore
LOCATION:Lowell General Hospital Cancer Center
URL:https://www.tuftsmedicine.org/about-us/events/breathe-move-and-restore
END:VEVENT
END:VCALENDAR
