BEGIN:VCALENDAR
VERSION:2.0
PRODID:-//Drupal//Event Calendar//EN
METHOD:PUBLISH
X-WR-CALNAME:General Loss Grief Support Group
BEGIN:VEVENT
UID:bd70a7f0be895900873bdd04c8175b50@www.tuftsmedicine.org
DTSTAMP:20260422T120812Z
DTSTART:20260507T113000
DTEND:20260507T130000
SUMMARY:General Loss Grief Support Group
URL:https://www.tuftsmedicine.org/about-us/events/general-loss-grief-support-group-woburn
END:VEVENT
END:VCALENDAR
