BEGIN:VCALENDAR
VERSION:2.0
PRODID:-//Drupal//Event Calendar//EN
METHOD:PUBLISH
X-WR-CALNAME:General Loss Grief Support Group
BEGIN:VEVENT
UID:e559b738a84f9eb81887d199dadc998c@www.tuftsmedicine.org
DTSTAMP:20260422T120812Z
DTSTART:20260430T113000
DTEND:20260430T130000
SUMMARY:General Loss Grief Support Group
URL:https://www.tuftsmedicine.org/about-us/events/general-loss-grief-support-group-woburn
END:VEVENT
END:VCALENDAR
