BEGIN:VCALENDAR
VERSION:2.0
PRODID:-//Drupal//Event Calendar//EN
METHOD:PUBLISH
X-WR-CALNAME:General Loss Grief Support Group
BEGIN:VEVENT
UID:72f94d726e850fd1c282e10357205d2f@www.tuftsmedicine.org
DTSTAMP:20260422T120811Z
DTSTART:20260423T113000
DTEND:20260423T130000
SUMMARY:General Loss Grief Support Group
URL:https://www.tuftsmedicine.org/about-us/events/general-loss-grief-support-group-woburn
END:VEVENT
END:VCALENDAR
