BEGIN:VCALENDAR
VERSION:2.0
PRODID:-//Drupal//Event Calendar//EN
METHOD:PUBLISH
X-WR-CALNAME:Women’s Cancer Survivorship Support Group
BEGIN:VEVENT
UID:174d499cb982af77c3b6b30d5dd409d5@www.tuftsmedicine.org
DTSTAMP:20260421T170608Z
DTSTART:20260624T140000
DTEND:20260624T150000
SUMMARY:Women’s Cancer Survivorship Support Group
LOCATION:Tufts Medicine Cancer Center – Stoneham
URL:https://www.tuftsmedicine.org/about-us/events/womens-cancer-survivorship-support-group
END:VEVENT
END:VCALENDAR
