BEGIN:VCALENDAR
VERSION:2.0
PRODID:-//Drupal//Event Calendar//EN
METHOD:PUBLISH
X-WR-CALNAME:Women’s Cancer Survivorship Support Group
BEGIN:VEVENT
UID:03cfa6e9a8da2020a808ca71acec8f1f@www.tuftsmedicine.org
DTSTAMP:20260421T170608Z
DTSTART:20260527T140000
DTEND:20260527T150000
SUMMARY:Women’s Cancer Survivorship Support Group
LOCATION:Tufts Medicine Cancer Center – Stoneham
URL:https://www.tuftsmedicine.org/about-us/events/womens-cancer-survivorship-support-group
END:VEVENT
END:VCALENDAR
