BEGIN:VCALENDAR
VERSION:2.0
PRODID:-//Drupal//Event Calendar//EN
METHOD:PUBLISH
X-WR-CALNAME:Joint Camp at MelroseWakefield Hospital
BEGIN:VEVENT
UID:426544b4055c00e84c20a8b0d00f5bbd@www.tuftsmedicine.org
DTSTAMP:20260421T105353Z
DTSTART:20260507T103000
DTEND:20260507T113000
SUMMARY:Joint Camp at MelroseWakefield Hospital
LOCATION:MelroseWakefield Hospital
URL:https://www.tuftsmedicine.org/about-us/events/joint-camp-melrosewakefield-hospital
END:VEVENT
END:VCALENDAR
