BEGIN:VCALENDAR
VERSION:2.0
PRODID:-//Drupal//Event Calendar//EN
METHOD:PUBLISH
X-WR-CALNAME:Joint Camp at MelroseWakefield Hospital
BEGIN:VEVENT
UID:67c7ffaca0c1145e8ea17e525afee571@www.tuftsmedicine.org
DTSTAMP:20260421T105353Z
DTSTART:20260430T103000
DTEND:20260430T113000
SUMMARY:Joint Camp at MelroseWakefield Hospital
LOCATION:MelroseWakefield Hospital
URL:https://www.tuftsmedicine.org/about-us/events/joint-camp-melrosewakefield-hospital
END:VEVENT
END:VCALENDAR
