BEGIN:VCALENDAR
VERSION:2.0
PRODID:-//Drupal//Event Calendar//EN
METHOD:PUBLISH
X-WR-CALNAME:Baby Café: Breastfeeding support
BEGIN:VEVENT
UID:f668eda1fa381f0a13f151d4e6d5e333@www.tuftsmedicine.org
DTSTAMP:20260424T014732Z
DTSTART:20260504T100000
DTEND:20260504T120000
SUMMARY:Baby Café: Breastfeeding support
LOCATION:MelroseWakefield Hospital
URL:https://www.tuftsmedicine.org/about-us/events/baby-cafe-breastfeeding-support-0
END:VEVENT
END:VCALENDAR
