BEGIN:VCALENDAR
VERSION:2.0
PRODID:-//Drupal//Event Calendar//EN
METHOD:PUBLISH
X-WR-CALNAME:Baby Café: Breastfeeding support
BEGIN:VEVENT
UID:a8d562a4d6f22cbeacab881dd5a8b22a@www.tuftsmedicine.org
DTSTAMP:20260424T014731Z
DTSTART:20260427T100000
DTEND:20260427T120000
SUMMARY:Baby Café: Breastfeeding support
LOCATION:MelroseWakefield Hospital
URL:https://www.tuftsmedicine.org/about-us/events/baby-cafe-breastfeeding-support-0
END:VEVENT
END:VCALENDAR
