BEGIN:VCALENDAR
VERSION:2.0
PRODID:-//Drupal//Event Calendar//EN
METHOD:PUBLISH
X-WR-CALNAME:Us TOO® Prostate Cancer Support Group (Virtual)
BEGIN:VEVENT
UID:abc5c13ac1f8cec4e90af3a82cca2584@www.tuftsmedicine.org
DTSTAMP:20260422T130418Z
DTSTART:20260714T183000
DTEND:20260714T200000
SUMMARY:Us TOO® Prostate Cancer Support Group (Virtual)
LOCATION:Online
URL:https://www.tuftsmedicine.org/about-us/events/us-toor-prostate-cancer-support-group-virtual
END:VEVENT
END:VCALENDAR
