BEGIN:VCALENDAR
VERSION:2.0
PRODID:-//Drupal//Event Calendar//EN
METHOD:PUBLISH
X-WR-CALNAME:Social Knitting Group
BEGIN:VEVENT
UID:ce9a22016c2400e1aa67f1fe62e8bcbf@www.tuftsmedicine.org
DTSTAMP:20260422T121843Z
DTSTART:20260506T130000
DTEND:20260506T150000
SUMMARY:Social Knitting Group
URL:https://www.tuftsmedicine.org/about-us/events/social-knitting-group
END:VEVENT
END:VCALENDAR
