BEGIN:VCALENDAR
VERSION:2.0
PRODID:-//Drupal//Event Calendar//EN
METHOD:PUBLISH
X-WR-CALNAME:Social Knitting Group
BEGIN:VEVENT
UID:f77ab5a57d308a8b60c21148d1abd3a5@www.tuftsmedicine.org
DTSTAMP:20260422T121842Z
DTSTART:20260429T130000
DTEND:20260429T150000
SUMMARY:Social Knitting Group
URL:https://www.tuftsmedicine.org/about-us/events/social-knitting-group
END:VEVENT
END:VCALENDAR
