BEGIN:VCALENDAR
VERSION:2.0
PRODID:-//Drupal//Event Calendar//EN
METHOD:PUBLISH
X-WR-CALNAME:Social Knitting Group
BEGIN:VEVENT
UID:f6ba739e3036e02b848c464ef5251f9a@www.tuftsmedicine.org
DTSTAMP:20260422T121842Z
DTSTART:20260422T130000
DTEND:20260422T150000
SUMMARY:Social Knitting Group
URL:https://www.tuftsmedicine.org/about-us/events/social-knitting-group
END:VEVENT
END:VCALENDAR
