BEGIN:VCALENDAR
VERSION:2.0
PRODID:-//Drupal//Event Calendar//EN
METHOD:PUBLISH
X-WR-CALNAME:Nature-Based Grief Ritual Workshop for Families
BEGIN:VEVENT
UID:e7c644b2a3a23130562fbf5a640a43b5@www.tuftsmedicine.org
DTSTAMP:20260416T174226Z
DTSTART:20260509T103000
DTEND:20260509T121500
SUMMARY:Nature-Based Grief Ritual Workshop for Families
URL:https://www.tuftsmedicine.org/about-us/events/nature-based-grief-ritual-workshop-families
END:VEVENT
END:VCALENDAR
